BEGIN:VCALENDAR
VERSION:2.0
PRODID:-//Plus Ultra Entertainment - ECPv6.12.0.1//NONSGML v1.0//EN
CALSCALE:GREGORIAN
METHOD:PUBLISH
X-WR-CALNAME:Plus Ultra Entertainment
X-ORIGINAL-URL:https://plusultraentertainment.com
X-WR-CALDESC:Events for Plus Ultra Entertainment
REFRESH-INTERVAL;VALUE=DURATION:PT1H
X-Robots-Tag:noindex
X-PUBLISHED-TTL:PT1H
BEGIN:VTIMEZONE
TZID:America/New_York
BEGIN:DAYLIGHT
TZOFFSETFROM:-0500
TZOFFSETTO:-0400
TZNAME:EDT
DTSTART:20250309T070000
END:DAYLIGHT
BEGIN:STANDARD
TZOFFSETFROM:-0400
TZOFFSETTO:-0500
TZNAME:EST
DTSTART:20251102T060000
END:STANDARD
END:VTIMEZONE
BEGIN:VEVENT
DTSTART;TZID=America/New_York:20250811T183000
DTEND;TZID=America/New_York:20250811T203000
DTSTAMP:20260423T111204
CREATED:20250806T162222Z
LAST-MODIFIED:20250806T162222Z
UID:10901-1754937000-1754944200@plusultraentertainment.com
SUMMARY:NE ZHA II - FREE IMAX Screening
DESCRIPTION:NE ZHA II – IMAX Screening – Washington\, D.C. \nDate: Monday\, August 11 \nTime: 6:30pm *Note start time \nLocation: AMC Tysons Corner | 7850e Tysons Corner Center\, McLean\, VA 22102 \n*General admission entry is first-come first-serve and guests are recommended to arrive early.
URL:https://plusultraentertainment.com/event/ne-zha-ii-free-imax-screening/
LOCATION:AMC Tysons\, 7850e Tysons Corner Center\, VA\, 22102\, United States
CATEGORIES:Free Events,Plus Ultra Events
ATTACH;FMTTYPE=image/png:https://plusultraentertainment.com/wp-content/uploads/2025/08/Screenshot-2025-08-06-at-12.21.45-PM.png
ORGANIZER;CN="Plus Ultra Entertainment":MAILTO:gobeyond@plusultraentertainment.com
END:VEVENT
BEGIN:VEVENT
DTSTART;TZID=America/New_York:20250621T180000
DTEND;TZID=America/New_York:20250621T190000
DTSTAMP:20260423T111204
CREATED:20250619T051650Z
LAST-MODIFIED:20250619T051650Z
UID:10853-1750528800-1750532400@plusultraentertainment.com
SUMMARY:New Media and the African Diaspora at Smithsonian
DESCRIPTION:Panel Discussion about new media and the African Diaspora with N-Lite Media and Cutting Edge Animation. \nThis discussion takes place in the lecture hall at the National Museum of African Art. \nAbout MFINDA – A 12-year-old Congolese girl is transported to the Mfinda\, a primordial forest of spirits\, gods\, and ancestors. There she joins another young girl and embarks on a journey to find the magical Nkisi in hopes of finding her way back home. \nAbout Cutting Edge Animations ‘Captain Zero’ – Fresh from Tribeca Film Festival hand selected by Whoopi Goldberg. A short film about Black heroism and mental health starring acclaimed actors Keith David\, Angelica Ross\, Zolee Griggs\, Z Cher-Aime & Coty Galloway – This panel is all centered around new media and the African Diaspora. \n  \nCAPACITY IS LIMITED and SEATING IS NOT GUARANTEED!
URL:https://plusultraentertainment.com/event/new-media-and-the-african-diaspora-at-smithsonian/
LOCATION:Smithsonian Museum of African Art\, 950 Independence Ave\, Washington\, DC\, 20560\, United States
CATEGORIES:Free Events,Plus Ultra Events
ATTACH;FMTTYPE=image/jpeg:https://plusultraentertainment.com/wp-content/uploads/2025/06/Panel-Flyer.jpg
ORGANIZER;CN="Plus Ultra Entertainment":MAILTO:gobeyond@plusultraentertainment.com
END:VEVENT
BEGIN:VEVENT
DTSTART;TZID=America/New_York:20250619T180000
DTEND;TZID=America/New_York:20250619T220000
DTSTAMP:20260423T111204
CREATED:20250609T164835Z
LAST-MODIFIED:20250609T170132Z
UID:10753-1750356000-1750370400@plusultraentertainment.com
SUMMARY:FREE EVENT! Homegrown: A Juneteenth Social
DESCRIPTION:Join DMVAnimeClub and Plus Ultra Entertainment for Homegrown: A Juneteenth Social a vibrant evening celebrating freedom\, culture\, and community. \nEnjoy great music\, delicious food and drinks for purchase\, and a welcoming space to connect with others. \nThe event is free to attend and there’s plenty of parking available on site. \nWhen: Thursday\, June 19 at 6:00 PM \nWhere: Bistro 64\, 6494 Marlboro Pike\, District Heights\, MD 20747 \nCome vibe with us and celebrate Black joy. All are welcome!
URL:https://plusultraentertainment.com/event/homegrown-a-juneteenth-social/
LOCATION:Bistro 64\, 6494 Marlboro Pike\, District Heights\, MD\, 20747\, United States
CATEGORIES:Free Events,Partner Events
ATTACH;FMTTYPE=image/png:https://plusultraentertainment.com/wp-content/uploads/2025/06/Screenshot-2025-06-09-at-12.48.16 PM.png
END:VEVENT
BEGIN:VEVENT
DTSTART;TZID=America/New_York:20250406T140000
DTEND;TZID=America/New_York:20250406T170000
DTSTAMP:20260423T111204
CREATED:20250313T182418Z
LAST-MODIFIED:20250313T205319Z
UID:8526-1743948000-1743958800@plusultraentertainment.com
SUMMARY:FREE Anime Movie Day: A Silent Voice
DESCRIPTION:Join us for a free screening and enjoy an anime feature for all ages! \nAbout the movie: \nA former class bully reaches out to the Deaf girl he’d tormented in grade school. He feels unworthy of redemption but tries to make things right.
URL:https://plusultraentertainment.com/event/free-anime-movie-day-a-silent-voice/
LOCATION:National Harbor Waterfront\, 150 National Plaza\, Oxon Hill\, MD\, United States
CATEGORIES:Free Events,Plus Ultra Events
ATTACH;FMTTYPE=image/jpeg:https://plusultraentertainment.com/wp-content/uploads/2025/03/asilentvoice.jpg
END:VEVENT
BEGIN:VEVENT
DTSTART;TZID=America/New_York:20250323T140000
DTEND;TZID=America/New_York:20250323T170000
DTSTAMP:20260423T111204
CREATED:20250313T182215Z
LAST-MODIFIED:20250313T170403Z
UID:8521-1742738400-1742749200@plusultraentertainment.com
SUMMARY:FREE Anime Movie Day: Dragon Ball Super: Broly
DESCRIPTION:Enjoy a FREE outdoor movie! RSVP so you don’t forget but feel free to bring the entire family! \nClick here to RSVP via eventbrite: https://broly.eventbrite.com
URL:https://plusultraentertainment.com/event/free-anime-movie-day-dragon-ball-super-broly/
LOCATION:National Harbor Waterfront\, 150 National Plaza\, Oxon Hill\, MD\, United States
CATEGORIES:Free Events,Plus Ultra Events
ATTACH;FMTTYPE=image/jpeg:https://plusultraentertainment.com/wp-content/uploads/2025/03/broly.jpg
ORGANIZER;CN="Plus Ultra Entertainment":MAILTO:gobeyond@plusultraentertainment.com
END:VEVENT
BEGIN:VEVENT
DTSTART;TZID=America/New_York:20250322T150000
DTEND;TZID=America/New_York:20250322T200000
DTSTAMP:20260423T111204
CREATED:20250313T174811Z
LAST-MODIFIED:20250318T012226Z
UID:8506-1742655600-1742673600@plusultraentertainment.com
SUMMARY:Let Your Voices Bloom! LIVE Outdoor Karaoke!
DESCRIPTION:Join us on the National Harbor stage as we bring you an unforgettable FREE outdoor karaoke experience! \nSinging experience not required! This event is fun and for all ages! \nWe will have entertainment and the Spring spirit garden will be open for ages 21+
URL:https://plusultraentertainment.com/event/let-your-voices-bloom-live-outdoor-karaoke/
LOCATION:National Harbor Waterfront\, 150 National Plaza\, Oxon Hill\, MD\, United States
CATEGORIES:Free Events,Partner Events
ATTACH;FMTTYPE=image/jpeg:https://plusultraentertainment.com/wp-content/uploads/2025/03/BloomKaraoke.jpg
END:VEVENT
BEGIN:VEVENT
DTSTART;TZID=America/New_York:20250313T040000
DTEND;TZID=America/New_York:20250313T130000
DTSTAMP:20260423T111204
CREATED:20250313T204622Z
LAST-MODIFIED:20250313T204622Z
UID:8533-1741838400-1741870800@plusultraentertainment.com
SUMMARY:Sakura Sunday Festival at National Harbor
DESCRIPTION:The wait is over and the springtime celebration of the season is here! Come to National Harbor’s official participating event of the 2025 National Cherry Blossom Festival\, Sakura Sunday. \nJoin us on Sunday\, March 30 from Noon – 5pm for a wide array of free cultural activities including an artisanal Japanese marketplace\, cultural performances\, culinary delights\, a Sakura Spirits Garden\, Water Lantern Festival and more!
URL:https://plusultraentertainment.com/event/sakura-sunday-festival-at-national-harbor/
LOCATION:National Harbor Waterfront\, 150 National Plaza\, Oxon Hill\, MD\, United States
CATEGORIES:Free Events,Partner Events,Plus Ultra Events
ATTACH;FMTTYPE=image/jpeg:https://plusultraentertainment.com/wp-content/uploads/2025/03/@theinterstellarstudio_pue_SakuraSunday-67-scaled.jpg
END:VEVENT
END:VCALENDAR