BEGIN:VCALENDAR
VERSION:2.0
PRODID:-//Plus Ultra Entertainment - ECPv6.12.0.1//NONSGML v1.0//EN
CALSCALE:GREGORIAN
METHOD:PUBLISH
X-WR-CALNAME:Plus Ultra Entertainment
X-ORIGINAL-URL:https://plusultraentertainment.com
X-WR-CALDESC:Events for Plus Ultra Entertainment
REFRESH-INTERVAL;VALUE=DURATION:PT1H
X-Robots-Tag:noindex
X-PUBLISHED-TTL:PT1H
BEGIN:VTIMEZONE
TZID:America/New_York
BEGIN:DAYLIGHT
TZOFFSETFROM:-0500
TZOFFSETTO:-0400
TZNAME:EDT
DTSTART:20250309T070000
END:DAYLIGHT
BEGIN:STANDARD
TZOFFSETFROM:-0400
TZOFFSETTO:-0500
TZNAME:EST
DTSTART:20251102T060000
END:STANDARD
BEGIN:DAYLIGHT
TZOFFSETFROM:-0500
TZOFFSETTO:-0400
TZNAME:EDT
DTSTART:20260308T070000
END:DAYLIGHT
BEGIN:STANDARD
TZOFFSETFROM:-0400
TZOFFSETTO:-0500
TZNAME:EST
DTSTART:20261101T060000
END:STANDARD
END:VTIMEZONE
BEGIN:VEVENT
DTSTART;TZID=America/New_York:20260314T210000
DTEND;TZID=America/New_York:20260315T020000
DTSTAMP:20260423T085247
CREATED:20260201T000649Z
LAST-MODIFIED:20260201T000649Z
UID:10978-1773522000-1773540000@plusultraentertainment.com
SUMMARY:Awesome Con Official SATURDAY After Party
DESCRIPTION:We are back for another amazing year of entertainment with Awesome Con! This year we have moved to hosting the Official SATURDAY after party! \nGuests will enjoy FREE soju tastings with Sip Yoju\, FREE games & beyblades! We will also have other unique entertainment\, music and a cosplay contest! \n  \nThis event is 18+ / Must be 21+ to consume alcoholic beverages
URL:https://plusultraentertainment.com/event/awesome-con-official-saturday-after-party-2026/
LOCATION:District E\, 701 7th St NW\, Washington\, DC\, 20001\, United States
CATEGORIES:After Parties,Partner Events,Plus Ultra Events
ATTACH;FMTTYPE=image/png:https://plusultraentertainment.com/wp-content/uploads/2026/01/mutantmayhem.png
END:VEVENT
BEGIN:VEVENT
DTSTART;TZID=America/New_York:20260213T200000
DTEND;TZID=America/New_York:20260214T010000
DTSTAMP:20260423T085247
CREATED:20260122T231602Z
LAST-MODIFIED:20260209T130152Z
UID:10973-1771012800-1771030800@plusultraentertainment.com
SUMMARY:Plus Ultra Katsucon FRIDAY After Party
DESCRIPTION:Katsucon Killer Kaiju Karaoke Party! CLICK HERE TO RSVP! \n\nParty with us at LIVE K at National Harbor from 8pm-1am for an unofficial Katsucon FRIDAY After Party! We’re taking over with our DJs all night!\n\n\n\nParty with Plus Ultra Entertainment Katsucon weekend as we take over LIVE K Karaoke for a night of dancing\, cosplay and karaoke! \nFree Karaoke from 8pm-9pm and DJ party from 9pm-1am! \nMusic by DJ Detailz \nWe’re spinning anime music\, hip hop and top 40 all night! \nTo book a private room visit: https://live-knh.com/ \nWhen you check in use code PLUSULTRA for $10 off per hour on your booking!
URL:https://plusultraentertainment.com/event/plus-ultra-katsucon-friday-after-party/
LOCATION:Live K Karaoke National Harbor\, 137 National Plaza\, Oxon Hill\, MD\, 20745\, United States
CATEGORIES:After Parties,Partner Events,Plus Ultra Events
ATTACH;FMTTYPE=image/png:https://plusultraentertainment.com/wp-content/uploads/2026/01/kaiju-katsu.png
ORGANIZER;CN="Plus Ultra Entertainment":MAILTO:gobeyond@plusultraentertainment.com
END:VEVENT
BEGIN:VEVENT
DTSTART;TZID=America/New_York:20251213T203000
DTEND;TZID=America/New_York:20251214T020000
DTSTAMP:20260423T085247
CREATED:20251124T201929Z
LAST-MODIFIED:20251124T201929Z
UID:10961-1765657800-1765677600@plusultraentertainment.com
SUMMARY:Anime Frontier Official Saturday Afterparty
DESCRIPTION:
URL:https://plusultraentertainment.com/event/anime-frontier-official-saturday-afterparty/
LOCATION:Siete Forth Worth\, 3005 Bledsoe st.\, Forth Worth\, TX\, 76107\, United States
CATEGORIES:After Parties,Partner Events,Plus Ultra Events
ATTACH;FMTTYPE=image/png:https://plusultraentertainment.com/wp-content/uploads/2025/11/sinnerssaloon-NEW.png
ORGANIZER;CN="Plus Ultra Entertainment":MAILTO:gobeyond@plusultraentertainment.com
END:VEVENT
END:VCALENDAR