BEGIN:VCALENDAR
VERSION:2.0
PRODID:-//Plus Ultra Entertainment - ECPv6.12.0.1//NONSGML v1.0//EN
CALSCALE:GREGORIAN
METHOD:PUBLISH
X-WR-CALNAME:Plus Ultra Entertainment
X-ORIGINAL-URL:https://plusultraentertainment.com
X-WR-CALDESC:Events for Plus Ultra Entertainment
REFRESH-INTERVAL;VALUE=DURATION:PT1H
X-Robots-Tag:noindex
X-PUBLISHED-TTL:PT1H
BEGIN:VTIMEZONE
TZID:America/New_York
BEGIN:DAYLIGHT
TZOFFSETFROM:-0500
TZOFFSETTO:-0400
TZNAME:EDT
DTSTART:20250309T070000
END:DAYLIGHT
BEGIN:STANDARD
TZOFFSETFROM:-0400
TZOFFSETTO:-0500
TZNAME:EST
DTSTART:20251102T060000
END:STANDARD
END:VTIMEZONE
BEGIN:VEVENT
DTSTART;TZID=America/New_York:20250601T140000
DTEND;TZID=America/New_York:20250601T190000
DTSTAMP:20260421T043408
CREATED:20250521T194337Z
LAST-MODIFIED:20250521T194337Z
UID:10719-1748786400-1748804400@plusultraentertainment.com
SUMMARY:Sunny at Sunset Rooftop Party
DESCRIPTION:Plus Ultra Entertainment is back to bring you the best post Dream Con vibes! \nWe’re just a 5 min walk from the convention center! \nFYI there is a “splash zone” \nSwag is limited! Bottles available! \n21+ ONLY! – Tickets are Non-Refundable! \nThis is an unofficial Dream Con event
URL:https://plusultraentertainment.com/event/sunny-at-sunset-rooftop-party/
LOCATION:Sunset Rooftop Lounge\, 2119 Dallas Street\, Houston\, TX\, United States
CATEGORIES:Plus Ultra Events
ATTACH;FMTTYPE=image/png:https://plusultraentertainment.com/wp-content/uploads/2025/05/sunnyatsunset.png
END:VEVENT
END:VCALENDAR